BEGIN:VCALENDAR
VERSION:2.0
PRODID:-//NEC - ECPv6.15.20//NONSGML v1.0//EN
CALSCALE:GREGORIAN
METHOD:PUBLISH
X-WR-CALNAME:NEC
X-ORIGINAL-URL:https://le-nec.fr
X-WR-CALDESC:Évènements pour NEC
REFRESH-INTERVAL;VALUE=DURATION:PT1H
X-Robots-Tag:noindex
X-PUBLISHED-TTL:PT1H
BEGIN:VTIMEZONE
TZID:Europe/Paris
BEGIN:DAYLIGHT
TZOFFSETFROM:+0100
TZOFFSETTO:+0200
TZNAME:CEST
DTSTART:20230326T010000
END:DAYLIGHT
BEGIN:STANDARD
TZOFFSETFROM:+0200
TZOFFSETTO:+0100
TZNAME:CET
DTSTART:20231029T010000
END:STANDARD
BEGIN:DAYLIGHT
TZOFFSETFROM:+0100
TZOFFSETTO:+0200
TZNAME:CEST
DTSTART:20240331T010000
END:DAYLIGHT
BEGIN:STANDARD
TZOFFSETFROM:+0200
TZOFFSETTO:+0100
TZNAME:CET
DTSTART:20241027T010000
END:STANDARD
BEGIN:DAYLIGHT
TZOFFSETFROM:+0100
TZOFFSETTO:+0200
TZNAME:CEST
DTSTART:20250330T010000
END:DAYLIGHT
BEGIN:STANDARD
TZOFFSETFROM:+0200
TZOFFSETTO:+0100
TZNAME:CET
DTSTART:20251026T010000
END:STANDARD
END:VTIMEZONE
BEGIN:VEVENT
DTSTART;TZID=Europe/Paris:20241122T173000
DTEND;TZID=Europe/Paris:20241122T193000
DTSTAMP:20260425T235449
CREATED:20241024T122514Z
LAST-MODIFIED:20241024T123414Z
UID:3155-1732296600-1732303800@le-nec.fr
SUMMARY:Réunion publique sur le Chézelles et le Sénelles – 22 novembre 2024 à 17h30 – Saint-Georges-sur-Cher
DESCRIPTION:Le Nouvel Espace du Cher a réalisé cette année un diagnostic sur 3 affluents du Cher : le Chézelles\, le Sénelles et le Traine-Feuilles. \nL’objectif était d’identifier et mieux comprendre les pressions qui s’exercent sur ces cours d’eau. \nCela passe par l’observation de leur morphologie\, des écoulements\, des espèces de faune et de flore présentes\, etc.\, dans le but de définir collectivement un panel d’actions pour améliorer leur état\, compatible avec les usages actuels. \nLe NEC invite les riverains et usagers du Chézelles et du Sénelles à venir découvrir les résultats de cette étude et les pistes d’actions envisagées lors d’une réunion publique le 22 novembre 2024 à 17h30\, à la mairie de Saint-Georges-sur-Cher. \nPour toute information : lorraine.levieuge@le-nec.fr – 02 47 30 81 08
URL:https://le-nec.fr/evenement/reunion-publique-sur-le-chezelles-et-le-senelles-22-novembre-2024-a-17h30-saint-georges-sur-cher/
LOCATION:Saint-Georges-sur-Cher\, Saint-Georges-sur-Cher\, 41400\, France
CATEGORIES:Réunion publique
ATTACH;FMTTYPE=image/jpeg:https://le-nec.fr/wp-content/uploads/RP_CS.jpg
END:VEVENT
END:VCALENDAR